BEGIN:VCALENDAR
VERSION:2.0
METHOD:PUBLISH
PRODID:-//ActiveDataExchange/NEXTGEN V1//EN
BEGIN:VEVENT
DTSTART:20260425T140000Z
DTEND:20260425T170000Z
DTSTAMP:20260420T182146Z
LOCATION:MSU Tennis Center
SUMMARY:#34 Women's Tennis vs Sul Ross State
DESCRIPTION:Midwestern State University #34 Women's Tennis vs Sul Ross S
 tate\nView the full event details here: https://calendar.msutexas.edu/event/24-womens-tennis-vs-sul-ross-state/
CATEGORIES:Tennis
CONTACT:MSU Texas Athletics,940-397-4779
CLASS:PUBLIC
UID:B9B79D77-5808-45C7-BEC7-E6BAE3E5043D
BEGIN:VALARM
TRIGGER:-PT15M
ACTION:DISPLAY
DESCRIPTION:#34 Women's Tennis vs Sul Ross State
END:VALARM
END:VEVENT
END:VCALENDAR
