BEGIN:VCALENDAR
VERSION:2.0
METHOD:PUBLISH
PRODID:-//ActiveDataExchange/NEXTGEN V1//EN
BEGIN:VEVENT
DTSTART:20260424T140000Z
DTEND:20260424T170000Z
DTSTAMP:20260420T181833Z
LOCATION:MSU Tennis Center
SUMMARY:#34 Women's Tennis vs Western New Mexico
DESCRIPTION:Midwestern State University #34 Women's Tennis vs Western Ne
 w Mexico\nView the full event details here: https://calendar.msutexas.edu/event/22-womens-tennis-vs-western-new-mexico/
CATEGORIES:Tennis
CONTACT:MSU Texas Athletics,940-397-4779
CLASS:PUBLIC
UID:288CD9FF-DCAF-4AF9-A6E3-7BF6F7C025C8
BEGIN:VALARM
TRIGGER:-PT15M
ACTION:DISPLAY
DESCRIPTION:#34 Women's Tennis vs Western New Mexico
END:VALARM
END:VEVENT
END:VCALENDAR
