BEGIN:VCALENDAR
VERSION:2.0
METHOD:PUBLISH
PRODID:-//ActiveDataExchange/NEXTGEN V1//EN
BEGIN:VEVENT
DTSTART:20260424T180000Z
DTEND:20260424T210000Z
DTSTAMP:20260420T181635Z
LOCATION:MSU Tennis Center
SUMMARY:#21 Men's Tennis vs Western New Mexico
DESCRIPTION:Midwestern State University #21 Men's Tennis vs Western New 
 Mexico\nView the full event details here: https://calendar.msutexas.edu/event/19-mens-tennis-vs-western-new-mexico/
CATEGORIES:Tennis
CONTACT:MSU Texas Athletics,940-397-4779
CLASS:PUBLIC
UID:F394EED9-8862-4D84-91EF-08C4D88F33EE
BEGIN:VALARM
TRIGGER:-PT15M
ACTION:DISPLAY
DESCRIPTION:#21 Men's Tennis vs Western New Mexico
END:VALARM
END:VEVENT
END:VCALENDAR
