BEGIN:VCALENDAR
VERSION:2.0
METHOD:PUBLISH
PRODID:-//ActiveDataExchange/NEXTGEN V1//EN
BEGIN:VEVENT
DTSTART:20260425T180000Z
DTEND:20260425T210000Z
DTSTAMP:20260420T181807Z
LOCATION:MSU Tennis Center
SUMMARY:#21 Men's Tennis vs Sul Ross State
DESCRIPTION:Midwestern State University #21 Men's Tennis vs Sul Ross Sta
 te\nView the full event details here: https://calendar.msutexas.edu/event/19-mens-tennis-vs-sul-ross-state/
CATEGORIES:Tennis
CONTACT:MSU Texas Athletics,940-397-4779
CLASS:PUBLIC
UID:B9E742DE-B9EA-4503-9E31-28F91EAB4E83
BEGIN:VALARM
TRIGGER:-PT15M
ACTION:DISPLAY
DESCRIPTION:#21 Men's Tennis vs Sul Ross State
END:VALARM
END:VEVENT
END:VCALENDAR
